BEGIN:VCALENDAR
VERSION:2.0
PRODID:-//Σύγχρονοι Ορίζοντες - ECPv6.15.18//NONSGML v1.0//EN
CALSCALE:GREGORIAN
METHOD:PUBLISH
X-ORIGINAL-URL:https://s-orizontes.gr
X-WR-CALDESC:Events for Σύγχρονοι Ορίζοντες
REFRESH-INTERVAL;VALUE=DURATION:PT1H
X-Robots-Tag:noindex
X-PUBLISHED-TTL:PT1H
BEGIN:VTIMEZONE
TZID:Europe/Athens
BEGIN:DAYLIGHT
TZOFFSETFROM:+0200
TZOFFSETTO:+0300
TZNAME:EEST
DTSTART:20230326T010000
END:DAYLIGHT
BEGIN:STANDARD
TZOFFSETFROM:+0300
TZOFFSETTO:+0200
TZNAME:EET
DTSTART:20231029T010000
END:STANDARD
BEGIN:DAYLIGHT
TZOFFSETFROM:+0200
TZOFFSETTO:+0300
TZNAME:EEST
DTSTART:20240331T010000
END:DAYLIGHT
BEGIN:STANDARD
TZOFFSETFROM:+0300
TZOFFSETTO:+0200
TZNAME:EET
DTSTART:20241027T010000
END:STANDARD
BEGIN:DAYLIGHT
TZOFFSETFROM:+0200
TZOFFSETTO:+0300
TZNAME:EEST
DTSTART:20250330T010000
END:DAYLIGHT
BEGIN:STANDARD
TZOFFSETFROM:+0300
TZOFFSETTO:+0200
TZNAME:EET
DTSTART:20251026T010000
END:STANDARD
END:VTIMEZONE
BEGIN:VEVENT
DTSTART;TZID=Europe/Athens:20241030T183000
DTEND;TZID=Europe/Athens:20241030T203000
DTSTAMP:20260421T113924
CREATED:20241001T095034Z
LAST-MODIFIED:20241001T103047Z
UID:4441-1730313000-1730320200@s-orizontes.gr
SUMMARY:Παρουσίαση Βιβλίου: 11 Ημέρες
DESCRIPTION:Παρουσίαση βιβλίου: Πέταξε στὶς πνοὲς τῶν δροσερῶν ἀνέμων				\n				\n					\n		\n					\n		\n				\n						\n					\n			\n						\n				\n									Με χαρά σας προσκαλούμε στην παρουσίαση της ποιητικής συλλογής του Δημήτρη Μακρή: “Πέταξε στὶς πνοὲς τῶν δροσερῶν ἀνέμων”. \nΕλάτε να ανακαλύψουμε μαζί τη μαγεία της ποίησης. Σὰν τί νὰ εἶναι ἡ ποίηση;Ἀπόπλους σκέψης καὶ συναισθήματος\,Τῆς φαντασίας ἔκθεση\, \nΣάββατο | 08 Μαρτίου | 18.00Φράγκων 20\, 2ος όροφος 								\n				\n					\n		\n					\n		\n				\n						\n					\n			\n						\n				\n									\n					\n						\n									Ανακαλύψτε το βιβλίο
URL:https://s-orizontes.gr/event/%cf%80%ce%b1%cf%81%ce%bf%cf%85%cf%83%ce%af%ce%b1%cf%83%ce%b7-%ce%b2%ce%b9%ce%b2%ce%bb%ce%af%ce%bf%cf%85-11-%ce%b7%ce%bc%ce%ad%cf%81%ce%b5%cf%82/
LOCATION:Καφέ Ζώγια\, Αλ. Σβώλου 54\, Θεσσαλονίκη
CATEGORIES:Παρουσίαση βιβλίου
ATTACH;FMTTYPE=image/jpeg:https://s-orizontes.gr/wp-content/uploads/2024/10/parousiasi_vivliou_11IMERES.jpg
END:VEVENT
BEGIN:VEVENT
DTSTART;TZID=Europe/Athens:20240917T213000
DTEND;TZID=Europe/Athens:20240917T223000
DTSTAMP:20260421T113924
CREATED:20240910T195733Z
LAST-MODIFIED:20240910T195906Z
UID:4421-1726608600-1726612200@s-orizontes.gr
SUMMARY:Παρουσίαση βιβλίου: Αλκήεσσα
DESCRIPTION:Παρουσίαση βιβλίου: Πέταξε στὶς πνοὲς τῶν δροσερῶν ἀνέμων				\n				\n					\n		\n					\n		\n				\n						\n					\n			\n						\n				\n									Με χαρά σας προσκαλούμε στην παρουσίαση της ποιητικής συλλογής του Δημήτρη Μακρή: “Πέταξε στὶς πνοὲς τῶν δροσερῶν ἀνέμων”. \nΕλάτε να ανακαλύψουμε μαζί τη μαγεία της ποίησης. Σὰν τί νὰ εἶναι ἡ ποίηση;Ἀπόπλους σκέψης καὶ συναισθήματος\,Τῆς φαντασίας ἔκθεση\, \nΣάββατο | 08 Μαρτίου | 18.00Φράγκων 20\, 2ος όροφος 								\n				\n					\n		\n					\n		\n				\n						\n					\n			\n						\n				\n									\n					\n						\n									Ανακαλύψτε το βιβλίο
URL:https://s-orizontes.gr/event/%cf%80%ce%b1%cf%81%ce%bf%cf%85%cf%83%ce%af%ce%b1%cf%83%ce%b7-%ce%b2%ce%b9%ce%b2%ce%bb%ce%af%ce%bf%cf%85-%ce%b1%ce%bb%ce%ba%ce%ae%ce%b5%cf%83%cf%83%ce%b1/
LOCATION:Πεδίον Άρεως\, Πεδίον Άρεως\, Αθήνα
CATEGORIES:Παρουσίαση βιβλίου
ATTACH;FMTTYPE=image/jpeg:https://s-orizontes.gr/wp-content/uploads/2024/09/PAROUSIASI_ALKHESSA_PEDION_AREOS.jpg
END:VEVENT
BEGIN:VEVENT
DTSTART;TZID=Europe/Athens:20240912T203000
DTEND;TZID=Europe/Athens:20240912T213000
DTSTAMP:20260421T113924
CREATED:20240904T142101Z
LAST-MODIFIED:20240904T161523Z
UID:4369-1726173000-1726176600@s-orizontes.gr
SUMMARY:Παρουσίαση βιβλίου: Χρώματα Χρωματιστά - Οματσοδόρ
DESCRIPTION:Παρουσίαση βιβλίου: Πέταξε στὶς πνοὲς τῶν δροσερῶν ἀνέμων				\n				\n					\n		\n					\n		\n				\n						\n					\n			\n						\n				\n									Με χαρά σας προσκαλούμε στην παρουσίαση της ποιητικής συλλογής του Δημήτρη Μακρή: “Πέταξε στὶς πνοὲς τῶν δροσερῶν ἀνέμων”. \nΕλάτε να ανακαλύψουμε μαζί τη μαγεία της ποίησης. Σὰν τί νὰ εἶναι ἡ ποίηση;Ἀπόπλους σκέψης καὶ συναισθήματος\,Τῆς φαντασίας ἔκθεση\, \nΣάββατο | 08 Μαρτίου | 18.00Φράγκων 20\, 2ος όροφος 								\n				\n					\n		\n					\n		\n				\n						\n					\n			\n						\n				\n									\n					\n						\n									Ανακαλύψτε το βιβλίο
URL:https://s-orizontes.gr/event/%cf%80%ce%b1%cf%81%ce%bf%cf%85%cf%83%ce%af%ce%b1%cf%83%ce%b7-%cf%80%ce%bf%ce%b9%ce%b7%cf%84%ce%b9%ce%ba%ce%ae%cf%82-%cf%83%cf%85%ce%bb%ce%bb%ce%bf%ce%b3%ce%ae%cf%82-%cf%87%cf%81%cf%8e%ce%bc%ce%b1/
LOCATION:Πεδίον Άρεως\, Πεδίον Άρεως\, Αθήνα
CATEGORIES:Παρουσίαση βιβλίου
ATTACH;FMTTYPE=image/jpeg:https://s-orizontes.gr/wp-content/uploads/2024/09/PAROUSIASI_OMATSODOR-XROMATA_XROMATISTA.jpg
END:VEVENT
BEGIN:VEVENT
DTSTART;TZID=Europe/Athens:20240911T213000
DTEND;TZID=Europe/Athens:20240911T223000
DTSTAMP:20260421T113924
CREATED:20240904T155710Z
LAST-MODIFIED:20240904T160456Z
UID:4389-1726090200-1726093800@s-orizontes.gr
SUMMARY:Παρουσίαση βιβλίου: Μια χαραμάδα στο σκοτάδι
DESCRIPTION:Παρουσίαση βιβλίου: Πέταξε στὶς πνοὲς τῶν δροσερῶν ἀνέμων				\n				\n					\n		\n					\n		\n				\n						\n					\n			\n						\n				\n									Με χαρά σας προσκαλούμε στην παρουσίαση της ποιητικής συλλογής του Δημήτρη Μακρή: “Πέταξε στὶς πνοὲς τῶν δροσερῶν ἀνέμων”. \nΕλάτε να ανακαλύψουμε μαζί τη μαγεία της ποίησης. Σὰν τί νὰ εἶναι ἡ ποίηση;Ἀπόπλους σκέψης καὶ συναισθήματος\,Τῆς φαντασίας ἔκθεση\, \nΣάββατο | 08 Μαρτίου | 18.00Φράγκων 20\, 2ος όροφος 								\n				\n					\n		\n					\n		\n				\n						\n					\n			\n						\n				\n									\n					\n						\n									Ανακαλύψτε το βιβλίο
URL:https://s-orizontes.gr/event/%cf%80%ce%b1%cf%81%ce%bf%cf%85%cf%83%ce%af%ce%b1%cf%83%ce%b7-%ce%b2%ce%b9%ce%b2%ce%bb%ce%af%ce%bf%cf%85-%ce%bc%ce%b9%ce%b1-%cf%87%ce%b1%cf%81%ce%b1%ce%bc%ce%ac%ce%b4%ce%b1-%cf%83%cf%84%ce%bf-%cf%83/
LOCATION:Πεδίον Άρεως\, Πεδίον Άρεως\, Αθήνα
CATEGORIES:Παρουσίαση βιβλίου
ATTACH;FMTTYPE=image/jpeg:https://s-orizontes.gr/wp-content/uploads/2024/09/PAROUSIASI_MIA_XARAMADA_STO_SKOTADI.jpg
END:VEVENT
END:VCALENDAR